BEGIN:VCALENDAR
VERSION:2.0
PRODID:-//Tukios.com/
BEGIN:VEVENT
UID:c8c603a3-bdf8-4504-85ad-1138a7268e24@www.bellwoodustick.com
DTSTAMP:20260423T095657Z
DTSTART:20260425T210000Z
DTEND:20260425T220000Z
SUMMARY:Celebration of Life
DESCRIPTION:
URL:https://www.bellwoodustick.com/obituaries/adria-sheaks
LOCATION: 305 N 8th St  Rocky Ford CO 81067
GEO:38.0550972;-103.7217804
END:VEVENT
END:VCALENDAR